BEGIN:VCALENDAR
VERSION:2.0
PRODID:-//Ontmoetingscentrum Roermond - ECPv6.15.17.1//NONSGML v1.0//EN
CALSCALE:GREGORIAN
METHOD:PUBLISH
X-ORIGINAL-URL:https://oc-roermond.nl
X-WR-CALDESC:Evenementen voor Ontmoetingscentrum Roermond
REFRESH-INTERVAL;VALUE=DURATION:PT1H
X-Robots-Tag:noindex
X-PUBLISHED-TTL:PT1H
BEGIN:VTIMEZONE
TZID:Europe/Amsterdam
BEGIN:DAYLIGHT
TZOFFSETFROM:+0100
TZOFFSETTO:+0200
TZNAME:CEST
DTSTART:20250330T010000
END:DAYLIGHT
BEGIN:STANDARD
TZOFFSETFROM:+0200
TZOFFSETTO:+0100
TZNAME:CET
DTSTART:20251026T010000
END:STANDARD
BEGIN:DAYLIGHT
TZOFFSETFROM:+0100
TZOFFSETTO:+0200
TZNAME:CEST
DTSTART:20260329T010000
END:DAYLIGHT
BEGIN:STANDARD
TZOFFSETFROM:+0200
TZOFFSETTO:+0100
TZNAME:CET
DTSTART:20261025T010000
END:STANDARD
BEGIN:DAYLIGHT
TZOFFSETFROM:+0100
TZOFFSETTO:+0200
TZNAME:CEST
DTSTART:20270328T010000
END:DAYLIGHT
BEGIN:STANDARD
TZOFFSETFROM:+0200
TZOFFSETTO:+0100
TZNAME:CET
DTSTART:20271031T010000
END:STANDARD
END:VTIMEZONE
BEGIN:VEVENT
DTSTART;TZID=Europe/Amsterdam:20260313T100000
DTEND;TZID=Europe/Amsterdam:20260313T130000
DTSTAMP:20260421T123041
CREATED:20260302T122132Z
LAST-MODIFIED:20260302T122132Z
UID:26131-1773396000-1773406800@oc-roermond.nl
SUMMARY:Klasjeneren 55+
DESCRIPTION:
URL:https://oc-roermond.nl/agenda/klasjeneren-55-43/
LOCATION:OC Roermond\, Minderbroederssingel 15F\, Roermond\, Limburg\, 6041 KG\, Netherlands
END:VEVENT
BEGIN:VEVENT
DTSTART;TZID=Europe/Amsterdam:20260313T130000
DTEND;TZID=Europe/Amsterdam:20260313T160000
DTSTAMP:20260421T123041
CREATED:20260302T122258Z
LAST-MODIFIED:20260302T122925Z
UID:26133-1773406800-1773417600@oc-roermond.nl
SUMMARY:Open huiskamer & NL Doet
DESCRIPTION:
URL:https://oc-roermond.nl/agenda/open-inloop-nl-doet/
LOCATION:OC Roermond\, Minderbroederssingel 15F\, Roermond\, Limburg\, 6041 KG\, Netherlands
END:VEVENT
END:VCALENDAR